Workbook

Sheet 1 lentelė
G1: 1
G2: 2
G3: 3
C8: KRIPTOTURTO PASLAUGŲ TEIKĖJO NUOSAVŲ LĖŠŲ ATASKAITA
C10: 2025-xx-xx
C11: (data)
D12: Bazinis | G12: Testavimo nepalankiausiomis sąlygomis
B13: Eilutė | C13: Straipsnis | D13: 1 veiklos metai | E13: 2 veiklos metai | F13: 3 veiklos metai | G13: 1 veiklos metai | H13: 2 veiklos metai | I13: 3 veiklos metai
B14: 1. | C14: ĮMONĖS NUOSAVOS LĖŠOS (BENDRAS 1 LYGIO NUOSAVAS KAPITALAS (CET1)) | D14: =D15+D18+D21+D22+D23+D24+D25+D26+D27 -> 0 | E14: =E15+E18+E21+E22+E23+E24+E25+E26+E27 -> 0 | F14: =F15+F18+F21+F22+F23+F24+F25+F26+F27 -> 0 | G14: =G15+G18+G21+G22+G23+G24+G25+G26+G27 -> 0 | H14: =H15+H18+H21+H22+H23+H24+H25+H26+H27 -> 0 | I14: =I15+I18+I21+I22+I23+I24+I25+I26+I27 -> 0
B15: 1.1. | C15: Kapitalo priemonės, atitinkančios CET1 kapitalo reikalavimus | D15: =D16+D17 -> 0 | E15: =E16+E17 -> 0 | F15: =F16+F17 -> 0 | G15: =G16+G17 -> 0 | H15: =H16+H17 -> 0 | I15: =I16+I17 -> 0
B16: 1.1.1 | C16: Apmokėtos kapitalo priemonės
B17: 1.1.2 | C17: Akcijų priedai
B18: 1.2 | C18: Nepaskirstytasis pelnas | D18: =D19+D20 -> 0 | E18: =E19+E20 -> 0 | F18: =F19+F20 -> 0 | G18: =G19+G20 -> 0 | H18: =H19+H20 -> 0 | I18: =I19+I20 -> 0
B19: 1.2.1 | C19: Ankstesnių metų nepaskirstytasis pelnas
B20: 1.2.2. | C20: Reikalavimus atitinkantis pelnas arba nuostoliai
B21: 1.3. | C21: Sukauptos kitos bendrosios pajamos
B22: 1.4. | C22: Kiti rezervai
B23: 1.5. | C23: (-) Nematerialus turtas
B24: 1.6. | C24: (-) Finansų sektoriaus subjektų. kuriuose įmonė turi reikšmingų investciijų, turtas
B25: 1.7. | C25: (-) Kvalifikuotoji akcijų paketo dalis, turima ne finansų sektoriaus įmonėse
B26: 1.8. | C26: (-) Kiti atskaitymai iš CET1 kapitalo
B27: 2. | C27: VEIKLOS DRAUDIMAS (-) IŠSKAITA
D29: Bazinis | G29: Testavimo nepalankiausiomis sąlygomis
B30: Eilutė | C30: Straipsnis | D30: 1 veiklos metai | E30: 2 veiklos metai | F30: 3 veiklos metai | G30: 1 veiklos metai | H30: 2 veiklos metai | I30: 3 veiklos metai
B31: 1. | C31: Kriptoturto paslaugų teikėjo klasė (MiCAR IV priedas) | D31: 1 | E31: 1 | F31: 1 | G31: 1 | H31: 1 | I31: 1
B32: 2. | C32: Minimalus nuosavų lėšų reikalavimas | D32: =+IF(D31=1,50000,IF(D31=2,125000,IF(D31=3,150000,"Neteisingai įrašyta klasė"))) -> 50000 | E32: =+IF(E31=1,50000,IF(E31=2,125000,IF(E31=3,150000,"Neteisingai įrašyta klasė"))) -> 50000 | F32: =+IF(F31=1,50000,IF(F31=2,125000,IF(F31=3,150000,"Neteisingai įrašyta klasė"))) -> 50000 | G32: =+IF(G31=1,50000,IF(G31=2,125000,IF(G31=3,150000,"Neteisingai įrašyta klasė"))) -> 50000 | H32: =+IF(H31=1,50000,IF(H31=2,125000,IF(H31=3,150000,"Neteisingai įrašyta klasė"))) -> 50000 | I32: =+IF(I31=1,50000,IF(I31=2,125000,IF(I31=3,150000,"Neteisingai įrašyta klasė"))) -> 50000
B33: 3. | C33: Pastoviųjų pridėtinių išlaidų reikalavimas | D33: ='2 lentelė'!D8 -> 0 | E33: ='2 lentelė'!E8 -> 0 | F33: ='2 lentelė'!F8 -> 0 | G33: ='2 lentelė'!G8 -> 0 | H33: ='2 lentelė'!H8 -> 0 | I33: ='2 lentelė'!I8 -> 0
B34: 4. | C34: Nuosavų lėšų reikalavimas (didesnė iš 2 arba 3) | D34: =IF(D33>D32,D33,D32) -> 50000 | E34: =IF(E33>E32,E33,E32) -> 50000 | F34: =IF(F33>F32,F33,F32) -> 50000 | G34: =IF(G33>G32,G33,G32) -> 50000 | H34: =IF(H33>H32,H33,H32) -> 50000 | I34: =IF(I33>I32,I33,I32) -> 50000
B35: 5. | C35: VISO KAPITALO PERVIRŠIS (+) / DEFICITAS (–) | D35: =D14+D27-D34 -> -50000 | E35: =E14+E27-E34 -> -50000 | F35: =F14+F27-F34 -> -50000 | G35: =G14+G27-G34 -> -50000 | H35: =H14+H27-H34 -> -50000 | I35: =I14+I27-I34 -> -50000
B36: 6. | C36: KAPITALO PAKANKAMUMO RODIKLIS | D36: =+D14/D34 -> 0 | E36: =+E14/E34 -> 0 | F36: =+F14/F34 -> 0 | G36: =+G14/G34 -> 0 | H36: =+H14/H34 -> 0 | I36: =+I14/I34 -> 0
C39: pažymėtos eilutės užsipildo pagal nustatytas formules, jų pildyti nereikia

Sheet 2 lentelė
C2: KRIPTOTURTO PASLAUGŲ TEIKĖJO PASTOVIŲJŲ NETIESIOGINIŲ IŠLAIDŲ ATASKAITA
C4: 2025-xx-xx
C5: (data)
D6: Bazinis | G6: Testavimo nepalankiausiomis sąlygomis
B7: Eilutė | C7: Straipsnis | D7: 1 veiklos metai | E7: 2 veiklos metai | F7: 3 veiklos metai | G7: 1 veiklos metai | H7: 2 veiklos metai | I7: 3 veiklos metai
B8: 1. | C8: PASTOVIOSIOS NETIESIOGINĖS IŠLAIDOS | D8: =(D9+D10)/4 -> 0 | E8: =(E9+E10)/4 -> 0 | F8: =(F9+F10)/4 -> 0 | G8: =(G9+G10)/4 -> 0 | H8: =(H9+H10)/4 -> 0 | I8: =(I9+I10)/4 -> 0
B9: 2. | C9: VISOS METINĖS IŠLAIDOS PO PELNO PASKIRSTYMO AKCININKAMS
B10: 3 | C10: (−) IŠ VISO ATSKAITYMŲ | D10: =D11+D12+D13+D14 -> 0 | E10: =E11+E12+E13+E14 -> 0 | F10: =F11+F12+F13+F14 -> 0 | G10: =G11+G12+G13+G14 -> 0 | H10: =H11+H12+H13+H14 -> 0 | I10: =I11+I12+I13+I14 -> 0
B11: 3.1. | C11: (−) Darbuotojų premijas ir kitą atlygį tiek, kiek tos premijos ir atlygis priklauso nuo kriptoturto paslaugų teikėjo grynojo pelno atitinkamais metais
B12: 3.2. | C12: (−) Darbuotojų, direktorių ir partnerių teises į pelno dalį
B13: 3.3. | C13: (−) Kitą paskirstytą pelną ir kitą kintamąjį atlygį, jei jie teikiami naudojantis visapusiška diskrecija
B14: 3.4. | C14: (−) Neperiodinės išlaidos, susijusios su neįprasta veikla
